BEGIN:VCALENDAR
VERSION:2.0
PRODID:-//Město Říčany - ECPv6.15.20//NONSGML v1.0//EN
CALSCALE:GREGORIAN
METHOD:PUBLISH
X-ORIGINAL-URL:https://www.ricany.cz
X-WR-CALDESC:Akce na Město Říčany
REFRESH-INTERVAL;VALUE=DURATION:PT1H
X-Robots-Tag:noindex
X-PUBLISHED-TTL:PT1H
BEGIN:VTIMEZONE
TZID:Europe/Prague
BEGIN:DAYLIGHT
TZOFFSETFROM:+0100
TZOFFSETTO:+0200
TZNAME:CEST
DTSTART:20250330T010000
END:DAYLIGHT
BEGIN:STANDARD
TZOFFSETFROM:+0200
TZOFFSETTO:+0100
TZNAME:CET
DTSTART:20251026T010000
END:STANDARD
BEGIN:DAYLIGHT
TZOFFSETFROM:+0100
TZOFFSETTO:+0200
TZNAME:CEST
DTSTART:20260329T010000
END:DAYLIGHT
BEGIN:STANDARD
TZOFFSETFROM:+0200
TZOFFSETTO:+0100
TZNAME:CET
DTSTART:20261025T010000
END:STANDARD
BEGIN:DAYLIGHT
TZOFFSETFROM:+0100
TZOFFSETTO:+0200
TZNAME:CEST
DTSTART:20270328T010000
END:DAYLIGHT
BEGIN:STANDARD
TZOFFSETFROM:+0200
TZOFFSETTO:+0100
TZNAME:CET
DTSTART:20271031T010000
END:STANDARD
END:VTIMEZONE
BEGIN:VEVENT
DTSTART;TZID=Europe/Prague:20260424T090000
DTEND;TZID=Europe/Prague:20260424T110000
DTSTAMP:20260420T042205
CREATED:20260318T125822Z
LAST-MODIFIED:20260325T154550Z
UID:10003414-1777021200-1777028400@www.ricany.cz
SUMMARY:Výstava keramiky "Zrozeno z doteku"
DESCRIPTION:Výstava keramické tvorby kurzistů z Mraveniště Říčany. \nPřijďte objevit svět\, kde hlína ožívá pod rukama nadšených tvůrců. Výstava představuje průřez několikaletou tvorbou dospělých kurzistů\, kteří v sobě našli radost z tvoření a odvahu experimentovat. Čeká vás pestrá kolekce originálních děl – od hravých objektů až po osobité výtvarné výpovědi. Každý kus nese vlastní příběh\, energii i kus svého autora. \nVernisáž se uskuteční 31. března v 17:00. Přijďte se inspirovat\, potěšit a možná i překvapit tím\, co všechno dokáže hlína v lidských rukou.
URL:https://www.ricany.cz/udalost/vystava-keramiky-zrozeno-z-doteku-3/2026-04-24/
LOCATION:Městská galerie Říčany\, Masarykovo náměstí 83\, Říčany u Prahy\, 251 01\, Czech Republic
CATEGORIES:Kulturní
ATTACH;FMTTYPE=image/jpeg:https://www.ricany.cz/wp-content/uploads/2026/03/Vystava_keramiky.jpg
GEO:49.9917741;14.6568819
X-APPLE-STRUCTURED-LOCATION;VALUE=URI;X-ADDRESS=Městská galerie Říčany Masarykovo náměstí 83 Říčany u Prahy 251 01 Czech Republic;X-APPLE-RADIUS=500;X-TITLE=Masarykovo náměstí 83:geo:14.6568819,49.9917741
END:VEVENT
BEGIN:VEVENT
DTSTART;TZID=Europe/Prague:20260424T200000
DTEND;TZID=Europe/Prague:20260424T200000
DTSTAMP:20260420T042205
CREATED:20260416T103721Z
LAST-MODIFIED:20260416T103721Z
UID:10003359-1777060800-1777060800@www.ricany.cz
SUMMARY:Vlasta Redl s kapelou
DESCRIPTION:► KLUB MLADÉHO DIVÁKA ◄ \nVlasta Redl – samorostlý všeuměl\, skladatel\, textař\, zpěvák\, aranžér i producent\, který se podílel na téměř šedesáti albech a je také autorem divadelní a filmové hudby. Jeho tvorba se vymyká žánrovým hranicím – spojuje moravský a slovenský folklór s prvky rocku\, jazzu\, funky\, blues či R&B. Výsledkem je originální hudební svět s nezaměnitelným Redlovým rukopisem. \nVlasta Redl – samorostlý všeuměl (skladatel\, textař a zpěvák\, spisovatel\, studiový hráč\, aranžer\, hudební režisér a producent\, podílel se na téměř 60 albech\, taktéž autor divadelní a filmové hudby). Jeho hudební tvorba je žánrově nevyhraněná a proto těžko definovatelná\, snadno rozpoznatelný je ale jeho osobitý autorsko-aranžerský rukopis\, který často kombinuje tradiční melodické a harmonické linie moravského a slovenského folklóru s progresivními prvky současných hudebních směrů (rock\, r&b\, jazz\, funky\, blues). \nV Naší nové kapele kromě mě hrají\, zpívají\, tančí a mnoho jiných věcí pro pobavení publika (a sami sebe) provádějí: \nMarcel Buntaj nebo Petr Ptáček – bicí\, perkuse\nMartin Gašpar nebo Tomáš Koudelka nebo Michal Vašíček – baskytary\, zpěv\nBorek Nedorost nebo Karel Macálka – klávesy\, zpěv\nRuda Březina nebo Michal Žáček – saxofony\, flétny\nMatěj Morávek nebo Michal Vašíček a já – kytary\, zpěv
URL:https://www.ricany.cz/udalost/vlasta-redl-s-kapelou/
LOCATION:KC Labuť\, ul. 17. listopadu 214\, Říčany\, 25101
CATEGORIES:KC Labuť
ATTACH;FMTTYPE=image/jpeg:https://www.ricany.cz/wp-content/uploads/2026/02/o-redl1.jpg
ORGANIZER;CN="KC Labu%C5%A5":MAILTO:info@kclabut.cz
GEO:49.9931971;14.6580036
X-APPLE-STRUCTURED-LOCATION;VALUE=URI;X-ADDRESS=KC Labuť ul. 17. listopadu 214 Říčany 25101;X-APPLE-RADIUS=500;X-TITLE=ul. 17. listopadu 214:geo:14.6580036,49.9931971
END:VEVENT
END:VCALENDAR