BEGIN:VCALENDAR
VERSION:2.0
PRODID:-//Město Říčany - ECPv6.15.20//NONSGML v1.0//EN
CALSCALE:GREGORIAN
METHOD:PUBLISH
X-WR-CALNAME:Město Říčany
X-ORIGINAL-URL:https://www.ricany.cz
X-WR-CALDESC:Akce na Město Říčany
REFRESH-INTERVAL;VALUE=DURATION:PT1H
X-Robots-Tag:noindex
X-PUBLISHED-TTL:PT1H
BEGIN:VTIMEZONE
TZID:Europe/Prague
BEGIN:DAYLIGHT
TZOFFSETFROM:+0100
TZOFFSETTO:+0200
TZNAME:CEST
DTSTART:20250330T010000
END:DAYLIGHT
BEGIN:STANDARD
TZOFFSETFROM:+0200
TZOFFSETTO:+0100
TZNAME:CET
DTSTART:20251026T010000
END:STANDARD
BEGIN:DAYLIGHT
TZOFFSETFROM:+0100
TZOFFSETTO:+0200
TZNAME:CEST
DTSTART:20260329T010000
END:DAYLIGHT
BEGIN:STANDARD
TZOFFSETFROM:+0200
TZOFFSETTO:+0100
TZNAME:CET
DTSTART:20261025T010000
END:STANDARD
BEGIN:DAYLIGHT
TZOFFSETFROM:+0100
TZOFFSETTO:+0200
TZNAME:CEST
DTSTART:20270328T010000
END:DAYLIGHT
BEGIN:STANDARD
TZOFFSETFROM:+0200
TZOFFSETTO:+0100
TZNAME:CET
DTSTART:20271031T010000
END:STANDARD
END:VTIMEZONE
BEGIN:VEVENT
DTSTART;TZID=Europe/Prague:20260422T090000
DTEND;TZID=Europe/Prague:20260422T180000
DTSTAMP:20260420T042746
CREATED:20260318T125612Z
LAST-MODIFIED:20260325T154701Z
UID:10003400-1776848400-1776880800@www.ricany.cz
SUMMARY:Výstava keramiky "Zrozeno z doteku"
DESCRIPTION:Výstava keramické tvorby kurzistů z Mraveniště Říčany. \nPřijďte objevit svět\, kde hlína ožívá pod rukama nadšených tvůrců. Výstava představuje průřez několikaletou tvorbou dospělých kurzistů\, kteří v sobě našli radost z tvoření a odvahu experimentovat. Čeká vás pestrá kolekce originálních děl – od hravých objektů až po osobité výtvarné výpovědi. Každý kus nese vlastní příběh\, energii i kus svého autora. \nVernisáž se uskuteční 31. března v 17:00. Přijďte se inspirovat\, potěšit a možná i překvapit tím\, co všechno dokáže hlína v lidských rukou.
URL:https://www.ricany.cz/udalost/vystava-keramiky-zrozeno-z-doteku-2/2026-04-22/
LOCATION:Městská galerie Říčany\, Masarykovo náměstí 83\, Říčany u Prahy\, 251 01\, Czech Republic
CATEGORIES:Kulturní
ATTACH;FMTTYPE=image/jpeg:https://www.ricany.cz/wp-content/uploads/2026/03/Vystava_keramiky.jpg
GEO:49.9917741;14.6568819
X-APPLE-STRUCTURED-LOCATION;VALUE=URI;X-ADDRESS=Městská galerie Říčany Masarykovo náměstí 83 Říčany u Prahy 251 01 Czech Republic;X-APPLE-RADIUS=500;X-TITLE=Masarykovo náměstí 83:geo:14.6568819,49.9917741
END:VEVENT
BEGIN:VEVENT
DTSTART;TZID=Europe/Prague:20260422T200000
DTEND;TZID=Europe/Prague:20260422T200000
DTSTAMP:20260420T042746
CREATED:20260416T103715Z
LAST-MODIFIED:20260416T103715Z
UID:10003262-1776888000-1776888000@www.ricany.cz
SUMMARY:Radůza
DESCRIPTION:Radůza\, písničkářka\, jejíž tvorba si získala srdce posluchačů svou opravdovostí\, nezaměnitelným hlasem a energií\, vyráží na koncertní sezónu. Na pódiu zazní nejen písně\, které už patří k jejímu stálému repertoáru a které si publikum rádo zpívá s ní\, ale i novinky\, jež přinášejí čerstvou inspiraci a nové příběhy. Radůza vystoupí v triu\, takže se můžete těšit na bohatší a pestřejší hudební zvuk\, v němž se neztrácí upřímnost a síla prožitku\, ani intimita a naléhavost\, které její posluchači tolik oceňují. Publikum tak čeká večer plný emocí\, humoru i syrové síly hudby\, která vzniká zcela v přítomném okamžiku.
URL:https://www.ricany.cz/udalost/raduza-3/
LOCATION:KC Labuť\, ul. 17. listopadu 214\, Říčany\, 25101
CATEGORIES:KC Labuť
ATTACH;FMTTYPE=image/jpeg:https://www.ricany.cz/wp-content/uploads/2025/11/o-raduza3.jpg
ORGANIZER;CN="KC Labu%C5%A5":MAILTO:info@kclabut.cz
GEO:49.9931971;14.6580036
X-APPLE-STRUCTURED-LOCATION;VALUE=URI;X-ADDRESS=KC Labuť ul. 17. listopadu 214 Říčany 25101;X-APPLE-RADIUS=500;X-TITLE=ul. 17. listopadu 214:geo:14.6580036,49.9931971
END:VEVENT
END:VCALENDAR