BEGIN:VCALENDAR
VERSION:2.0
PRODID:-//Město Říčany - ECPv6.15.20//NONSGML v1.0//EN
CALSCALE:GREGORIAN
METHOD:PUBLISH
X-WR-CALNAME:Město Říčany
X-ORIGINAL-URL:https://www.ricany.cz
X-WR-CALDESC:Akce na Město Říčany
REFRESH-INTERVAL;VALUE=DURATION:PT1H
X-Robots-Tag:noindex
X-PUBLISHED-TTL:PT1H
BEGIN:VTIMEZONE
TZID:Europe/Prague
BEGIN:DAYLIGHT
TZOFFSETFROM:+0100
TZOFFSETTO:+0200
TZNAME:CEST
DTSTART:20250330T010000
END:DAYLIGHT
BEGIN:STANDARD
TZOFFSETFROM:+0200
TZOFFSETTO:+0100
TZNAME:CET
DTSTART:20251026T010000
END:STANDARD
BEGIN:DAYLIGHT
TZOFFSETFROM:+0100
TZOFFSETTO:+0200
TZNAME:CEST
DTSTART:20260329T010000
END:DAYLIGHT
BEGIN:STANDARD
TZOFFSETFROM:+0200
TZOFFSETTO:+0100
TZNAME:CET
DTSTART:20261025T010000
END:STANDARD
BEGIN:DAYLIGHT
TZOFFSETFROM:+0100
TZOFFSETTO:+0200
TZNAME:CEST
DTSTART:20270328T010000
END:DAYLIGHT
BEGIN:STANDARD
TZOFFSETFROM:+0200
TZOFFSETTO:+0100
TZNAME:CET
DTSTART:20271031T010000
END:STANDARD
END:VTIMEZONE
BEGIN:VEVENT
DTSTART;TZID=Europe/Prague:20260421T090000
DTEND;TZID=Europe/Prague:20260421T150000
DTSTAMP:20260420T042217
CREATED:20260318T121426Z
LAST-MODIFIED:20260325T154727Z
UID:10003381-1776762000-1776783600@www.ricany.cz
SUMMARY:Výstava keramiky "Zrozeno z doteku"
DESCRIPTION:Výstava keramické tvorby kurzistů z Mraveniště Říčany. \nPřijďte objevit svět\, kde hlína ožívá pod rukama nadšených tvůrců. Výstava představuje průřez několikaletou tvorbou dospělých kurzistů\, kteří v sobě našli radost z tvoření a odvahu experimentovat. Čeká vás pestrá kolekce originálních děl – od hravých objektů až po osobité výtvarné výpovědi. Každý kus nese vlastní příběh\, energii i kus svého autora. \nVernisáž se uskuteční 31. března v 17:00. Přijďte se inspirovat\, potěšit a možná i překvapit tím\, co všechno dokáže hlína v lidských rukou.
URL:https://www.ricany.cz/udalost/vystava-keramiky-zrozeno-z-doteku/2026-04-21/
LOCATION:Městská galerie Říčany\, Masarykovo náměstí 83\, Říčany u Prahy\, 251 01\, Czech Republic
CATEGORIES:Kulturní
ATTACH;FMTTYPE=image/jpeg:https://www.ricany.cz/wp-content/uploads/2026/03/Vystava_keramiky.jpg
GEO:49.9917741;14.6568819
X-APPLE-STRUCTURED-LOCATION;VALUE=URI;X-ADDRESS=Městská galerie Říčany Masarykovo náměstí 83 Říčany u Prahy 251 01 Czech Republic;X-APPLE-RADIUS=500;X-TITLE=Masarykovo náměstí 83:geo:14.6568819,49.9917741
END:VEVENT
BEGIN:VEVENT
DTSTART;TZID=Europe/Prague:20260421T090000
DTEND;TZID=Europe/Prague:20260421T160000
DTSTAMP:20260420T042217
CREATED:20260408T111549Z
LAST-MODIFIED:20260408T111549Z
UID:10003440-1776762000-1776787200@www.ricany.cz
SUMMARY:PID Point - mobilní infocentrum
DESCRIPTION:Široká veřejnost si zde může vyřídit na počkání výrobu plastové karty Lítačka\, převod kupónu ze ztracené Lítačky do nové a samozřejmě mnohem více. \nMísto konání: Masarykovo nám.
URL:https://www.ricany.cz/udalost/pid-point-mobilni-infocentrum-4/
LOCATION:25101
END:VEVENT
BEGIN:VEVENT
DTSTART;TZID=Europe/Prague:20260421T190000
DTEND;TZID=Europe/Prague:20260421T190000
DTSTAMP:20260420T042217
CREATED:20260416T103709Z
LAST-MODIFIED:20260416T103709Z
UID:10003300-1776798000-1776798000@www.ricany.cz
SUMMARY:ŘÍČANSKÁ VEŘEJNÁ TANČÍRNA
DESCRIPTION:Příjemné prostředí\, kvalitní taneční hudba. Neformální oblečení. Přijďte se pobavit\, procvičit taneční kroky či odložit zbytečná kila! \n(vstupné: plné 150\,- / studenti a senioři 100\,-) \n 
URL:https://www.ricany.cz/udalost/ricanska-verejna-tancirna-15/
LOCATION:KC Labuť\, ul. 17. listopadu 214\, Říčany\, 25101
CATEGORIES:KC Labuť
ATTACH;FMTTYPE=image/jpeg:https://www.ricany.cz/wp-content/uploads/2025/05/o-tancirna-2025-rastr1.jpg
ORGANIZER;CN="KC Labu%C5%A5":MAILTO:info@kclabut.cz
GEO:49.9931971;14.6580036
X-APPLE-STRUCTURED-LOCATION;VALUE=URI;X-ADDRESS=KC Labuť ul. 17. listopadu 214 Říčany 25101;X-APPLE-RADIUS=500;X-TITLE=ul. 17. listopadu 214:geo:14.6580036,49.9931971
END:VEVENT
END:VCALENDAR